BEGIN:VCALENDAR
VERSION:2.0
PRODID:-//TYPO3//ICS Export//DE
CALSCALE:GREGORIAN
METHOD:PUBLISH
BEGIN:VEVENT
UID:event-156
DTSTAMP:20260421T092807Z
DTSTART:20260617T123000
DTEND:20260617T163000
SUMMARY:ADFC-Radspaß - Für Pedelec
DESCRIPTION: Weitere Infos: https://adfc-radspass.de/detail/d/adfc-radspass
 -fur-pedelec-110
LOCATION:Pumptrack/Parkplatz Rübgarten Wildenaustraße 70 72124 Pliezhause
 n
URL:https://adfc-radspass.de/detail/d/adfc-radspass-fur-pedelec-110
END:VEVENT
BEGIN:VEVENT
UID:event-158
DTSTAMP:20260421T092807Z
DTSTART:20260916T123000
DTEND:20260916T163000
SUMMARY:ADFC-Radspaß - Für Pedelec
DESCRIPTION: Weitere Infos: https://adfc-radspass.de/detail/d/adfc-radspass
 -fur-pedelec-112
LOCATION:Panzergelände Reutlingen Im Gewann Weiher 1 72762 Reutlingen
URL:https://adfc-radspass.de/detail/d/adfc-radspass-fur-pedelec-112
END:VEVENT
BEGIN:VEVENT
UID:event-160
DTSTAMP:20260421T092807Z
DTSTART:20261111T090000
DTEND:20261111T130000
SUMMARY:ADFC-Radspaß - Für Pedelec
DESCRIPTION: Weitere Infos: https://adfc-radspass.de/detail/d/adfc-radspass
 -fur-pedelec-114
LOCATION:Panzergelände Reutlingen Im Gewann Weiher 1 72762 Reutlingen
URL:https://adfc-radspass.de/detail/d/adfc-radspass-fur-pedelec-114
END:VEVENT
END:VCALENDAR