BEGIN:VCALENDAR
VERSION:2.0
PRODID:-//TYPO3//ICS Export//DE
CALSCALE:GREGORIAN
METHOD:PUBLISH
BEGIN:VEVENT
UID:event-166
DTSTAMP:20260419T154439Z
DTSTART:20260602T140000
DTEND:20260602T170000
SUMMARY:ADFC-Radspaß - Für Pedelec
DESCRIPTION:mit dem Gutscheincode LKGP26 reduziert sich der Preis um 10 Eur
 o Weitere Infos: https://adfc-radspass.de/detail/d/adfc-radspass-fur-pedele
 c-120
LOCATION:WALA Heilmittel GmbH (Laborgebäude) Badstraße 62 73987 Bad Boll
URL:https://adfc-radspass.de/detail/d/adfc-radspass-fur-pedelec-120
END:VEVENT
BEGIN:VEVENT
UID:event-167
DTSTAMP:20260419T154439Z
DTSTART:20260707T140000
DTEND:20260707T170000
SUMMARY:ADFC-Radspaß - Für Pedelec
DESCRIPTION:Bei Eingabe des Gutscheincodes LKGP26 reduziert sich der Preis 
 um 10 Euro Weitere Infos: https://adfc-radspass.de/detail/d/adfc-radspass-f
 ur-pedelec-121
LOCATION:WALA Heilmittel GmbH (Laborgebäude) Badstraße 62 73987 Bad Boll
URL:https://adfc-radspass.de/detail/d/adfc-radspass-fur-pedelec-121
END:VEVENT
BEGIN:VEVENT
UID:event-267
DTSTAMP:20260419T154439Z
DTSTART:20260517T100000
DTEND:20260517T130000
SUMMARY:ADFC-Radspaß - Für Pedelec
DESCRIPTION:Gutschein-Code ist LKGP26. Damit erhalten Sie einen Rabatt von 
 10\,00€ Weitere Infos: https://adfc-radspass.de/detail/d/adfc-radspass-fu
 r-pedelec-225
LOCATION:Edeka (Parkplatz) Stuttgarter Straße 67 73033 Göppingen
URL:https://adfc-radspass.de/detail/d/adfc-radspass-fur-pedelec-225
END:VEVENT
BEGIN:VEVENT
UID:event-268
DTSTAMP:20260419T154439Z
DTSTART:20260628T100000
DTEND:20260628T130000
SUMMARY:ADFC-Radspaß - Für Pedelec
DESCRIPTION:Gutschein-Code ist LKGP26 . Damit erhalten die Teilnehmenden ei
 nen Rabatt von 10\,00 € Weitere Infos: https://adfc-radspass.de/detail/d/
 adfc-radspass-fur-pedelec-226
LOCATION:Edeka (Parkplatz) Stuttgarter Straße 67 73033 Göppingen
URL:https://adfc-radspass.de/detail/d/adfc-radspass-fur-pedelec-226
END:VEVENT
END:VCALENDAR