BEGIN:VCALENDAR
VERSION:2.0
PRODID:-//TYPO3//ICS Export//DE
CALSCALE:GREGORIAN
METHOD:PUBLISH
BEGIN:VEVENT
UID:event-182
DTSTAMP:20260421T104838Z
DTSTART:20260530T140000
DTEND:20260530T173000
SUMMARY:ADFC-Radspaß - Für Pedelec
DESCRIPTION: Weitere Infos: https://adfc-radspass.de/detail/d/adfc-radspass
 -fur-pedelec-136
LOCATION:Verkehrsübungsplatz Schwäbisch Hall Steinbacher Straße 57 74523
  Schwäbisch Hall
URL:https://adfc-radspass.de/detail/d/adfc-radspass-fur-pedelec-136
END:VEVENT
BEGIN:VEVENT
UID:event-183
DTSTAMP:20260421T104838Z
DTSTART:20260620T140000
DTEND:20260620T173000
SUMMARY:ADFC-Radspaß - Für Pedelec
DESCRIPTION: Weitere Infos: https://adfc-radspass.de/detail/d/adfc-radspass
 -fur-pedelec-137
LOCATION:Verkehrsübungsplatz Schwäbisch Hall Steinbacher Straße 57 74523
  Schwäbisch Hall
URL:https://adfc-radspass.de/detail/d/adfc-radspass-fur-pedelec-137
END:VEVENT
BEGIN:VEVENT
UID:event-184
DTSTAMP:20260421T104838Z
DTSTART:20260801T140000
DTEND:20260801T173000
SUMMARY:ADFC-Radspaß - Für Pedelec
DESCRIPTION: Weitere Infos: https://adfc-radspass.de/detail/d/adfc-radspass
 -fur-pedelec-138
LOCATION:Verkehrsübungsplatz Schwäbisch Hall Steinbacher Straße 57 74523
  Schwäbisch Hall
URL:https://adfc-radspass.de/detail/d/adfc-radspass-fur-pedelec-138
END:VEVENT
BEGIN:VEVENT
UID:event-191
DTSTAMP:20260421T104838Z
DTSTART:20260516T140000
DTEND:20260516T173000
SUMMARY:ADFC-Radspaß - Für Pedelec und Fahrrad
DESCRIPTION: Weitere Infos: https://adfc-radspass.de/detail/d/adfc-radspass
 -fur-pedelec-und-fahrrad-145
LOCATION:Verkehrsübungsplatz Schwäbisch Hall Steinbacher Straße 57 74523
  Schwäbisch Hall
URL:https://adfc-radspass.de/detail/d/adfc-radspass-fur-pedelec-und-fahrrad
 -145
END:VEVENT
BEGIN:VEVENT
UID:event-192
DTSTAMP:20260421T104838Z
DTSTART:20260517T140000
DTEND:20260517T173000
SUMMARY:ADFC-Radspaß - Für Pedelec und Fahrrad
DESCRIPTION: Weitere Infos: https://adfc-radspass.de/detail/d/adfc-radspass
 -fur-pedelec-und-fahrrad-146
LOCATION:Verkehrsübungsplatz Schwäbisch Hall Steinbacher Straße 57 74523
  Schwäbisch Hall
URL:https://adfc-radspass.de/detail/d/adfc-radspass-fur-pedelec-und-fahrrad
 -146
END:VEVENT
BEGIN:VEVENT
UID:event-193
DTSTAMP:20260421T104838Z
DTSTART:20260606T140000
DTEND:20260606T180000
SUMMARY:ADFC-Radspaß - Für Pedelec und Fahrrad
DESCRIPTION: Weitere Infos: https://adfc-radspass.de/detail/d/adfc-radspass
 -fur-pedelec-und-fahrrad-147
LOCATION:Verkehrsübungsplatz Schwäbisch Hall Steinbacher Straße 57 74523
  Schwäbisch Hall
URL:https://adfc-radspass.de/detail/d/adfc-radspass-fur-pedelec-und-fahrrad
 -147
END:VEVENT
BEGIN:VEVENT
UID:event-194
DTSTAMP:20260421T104838Z
DTSTART:20260628T140000
DTEND:20260628T180000
SUMMARY:ADFC-Radspaß - Für Pedelec und Fahrrad
DESCRIPTION: Weitere Infos: https://adfc-radspass.de/detail/d/adfc-radspass
 -fur-pedelec-und-fahrrad-148
LOCATION:Verkehrsübungsplatz Schwäbisch Hall Steinbacher Straße 57 74523
  Schwäbisch Hall
URL:https://adfc-radspass.de/detail/d/adfc-radspass-fur-pedelec-und-fahrrad
 -148
END:VEVENT
END:VCALENDAR